BEGIN:VCALENDAR
VERSION:2.0
PRODID:-//Suzanne Westenhoefer - ECPv6.15.20//NONSGML v1.0//EN
CALSCALE:GREGORIAN
METHOD:PUBLISH
X-WR-CALNAME:Suzanne Westenhoefer
X-ORIGINAL-URL:https://new.suzannew.com
X-WR-CALDESC:Events for Suzanne Westenhoefer
REFRESH-INTERVAL;VALUE=DURATION:PT1H
X-Robots-Tag:noindex
X-PUBLISHED-TTL:PT1H
BEGIN:VTIMEZONE
TZID:UTC
BEGIN:STANDARD
TZOFFSETFROM:+0000
TZOFFSETTO:+0000
TZNAME:UTC
DTSTART:20210101T000000
END:STANDARD
END:VTIMEZONE
BEGIN:VTIMEZONE
TZID:America/Los_Angeles
BEGIN:DAYLIGHT
TZOFFSETFROM:-0800
TZOFFSETTO:-0700
TZNAME:PDT
DTSTART:20210314T100000
END:DAYLIGHT
BEGIN:STANDARD
TZOFFSETFROM:-0700
TZOFFSETTO:-0800
TZNAME:PST
DTSTART:20211107T090000
END:STANDARD
BEGIN:DAYLIGHT
TZOFFSETFROM:-0800
TZOFFSETTO:-0700
TZNAME:PDT
DTSTART:20220313T100000
END:DAYLIGHT
BEGIN:STANDARD
TZOFFSETFROM:-0700
TZOFFSETTO:-0800
TZNAME:PST
DTSTART:20221106T090000
END:STANDARD
BEGIN:DAYLIGHT
TZOFFSETFROM:-0800
TZOFFSETTO:-0700
TZNAME:PDT
DTSTART:20230312T100000
END:DAYLIGHT
BEGIN:STANDARD
TZOFFSETFROM:-0700
TZOFFSETTO:-0800
TZNAME:PST
DTSTART:20231105T090000
END:STANDARD
END:VTIMEZONE
BEGIN:VTIMEZONE
TZID:America/New_York
BEGIN:DAYLIGHT
TZOFFSETFROM:-0500
TZOFFSETTO:-0400
TZNAME:EDT
DTSTART:20210314T070000
END:DAYLIGHT
BEGIN:STANDARD
TZOFFSETFROM:-0400
TZOFFSETTO:-0500
TZNAME:EST
DTSTART:20211107T060000
END:STANDARD
BEGIN:DAYLIGHT
TZOFFSETFROM:-0500
TZOFFSETTO:-0400
TZNAME:EDT
DTSTART:20220313T070000
END:DAYLIGHT
BEGIN:STANDARD
TZOFFSETFROM:-0400
TZOFFSETTO:-0500
TZNAME:EST
DTSTART:20221106T060000
END:STANDARD
BEGIN:DAYLIGHT
TZOFFSETFROM:-0500
TZOFFSETTO:-0400
TZNAME:EDT
DTSTART:20230312T070000
END:DAYLIGHT
BEGIN:STANDARD
TZOFFSETFROM:-0400
TZOFFSETTO:-0500
TZNAME:EST
DTSTART:20231105T060000
END:STANDARD
END:VTIMEZONE
BEGIN:VTIMEZONE
TZID:America/Detroit
BEGIN:DAYLIGHT
TZOFFSETFROM:-0500
TZOFFSETTO:-0400
TZNAME:EDT
DTSTART:20210314T070000
END:DAYLIGHT
BEGIN:STANDARD
TZOFFSETFROM:-0400
TZOFFSETTO:-0500
TZNAME:EST
DTSTART:20211107T060000
END:STANDARD
BEGIN:DAYLIGHT
TZOFFSETFROM:-0500
TZOFFSETTO:-0400
TZNAME:EDT
DTSTART:20220313T070000
END:DAYLIGHT
BEGIN:STANDARD
TZOFFSETFROM:-0400
TZOFFSETTO:-0500
TZNAME:EST
DTSTART:20221106T060000
END:STANDARD
BEGIN:DAYLIGHT
TZOFFSETFROM:-0500
TZOFFSETTO:-0400
TZNAME:EDT
DTSTART:20230312T070000
END:DAYLIGHT
BEGIN:STANDARD
TZOFFSETFROM:-0400
TZOFFSETTO:-0500
TZNAME:EST
DTSTART:20231105T060000
END:STANDARD
END:VTIMEZONE
BEGIN:VTIMEZONE
TZID:America/Phoenix
BEGIN:STANDARD
TZOFFSETFROM:-0700
TZOFFSETTO:-0700
TZNAME:MST
DTSTART:20210101T000000
END:STANDARD
END:VTIMEZONE
BEGIN:VEVENT
DTSTART;TZID=UTC:20231007T190000
DTEND;TZID=UTC:20231007T203000
DTSTAMP:20260423T150859
CREATED:20230811T173234Z
LAST-MODIFIED:20230811T173343Z
UID:4578-1696705200-1696710600@new.suzannew.com
SUMMARY:Women's Week 2023
DESCRIPTION:Buy Tickets
URL:https://new.suzannew.com/event/womens-week-2023/
LOCATION:Red Room\, 258 Commercial Street\, Provincetown\, MA\, 02657
ATTACH;FMTTYPE=image/jpeg:https://new.suzannew.com/wp-content/uploads/2023/08/WW-2023-Instagram-The-Red-Room.jpg
END:VEVENT
BEGIN:VEVENT
DTSTART;TZID=UTC:20221216T190000
DTEND;TZID=UTC:20221216T203000
DTSTAMP:20260423T150859
CREATED:20220310T001241Z
LAST-MODIFIED:20220315T174732Z
UID:4213-1671217200-1671222600@new.suzannew.com
SUMMARY:Superstition Mountain Resort
DESCRIPTION:Buy Tickets
URL:https://new.suzannew.com/event/superstition-mountain-resort/
LOCATION:Superstition Mountain Resort\, 200 E. Southern Avenue\, Apache Junction\, AZ\, 85119\, United States
ATTACH;FMTTYPE=image/jpeg:https://new.suzannew.com/wp-content/uploads/2022/03/SW-Apache-Junction-AZ-INSTA-min.jpg
END:VEVENT
BEGIN:VEVENT
DTSTART;TZID=America/Los_Angeles:20220813T200000
DTEND;TZID=America/Los_Angeles:20220813T213000
DTSTAMP:20260423T150859
CREATED:20220513T200151Z
LAST-MODIFIED:20220524T155729Z
UID:4557-1660420800-1660426200@new.suzannew.com
SUMMARY:The Arts Project Of Cherry Grove Proudly Presents Suzanne Westenhofer - I’m Back
DESCRIPTION:Buy Tickets
URL:https://new.suzannew.com/event/the-arts-project-of-cherry-grove-proudly-presents-suzanne-westenhofer-im-back/
LOCATION:The Arts Project Of Cherry Grove\, 180 Bayview Walk\, Cherry Grove\, NY\, 11782
ATTACH;FMTTYPE=image/jpeg:https://new.suzannew.com/wp-content/uploads/2022/05/2022_APCG-SUZANNE-WESTENHAFER_8.5x11_REVISED-LOGO_Q-CODE.jpg
END:VEVENT
BEGIN:VEVENT
DTSTART;TZID=America/Los_Angeles:20220702T190000
DTEND;TZID=America/Los_Angeles:20220702T200000
DTSTAMP:20260423T150859
CREATED:20220428T183124Z
LAST-MODIFIED:20220428T183713Z
UID:4536-1656788400-1656792000@new.suzannew.com
SUMMARY:National Women's Music Festival
DESCRIPTION:Buy Tickets
URL:https://new.suzannew.com/event/national-womens-music-festival/
LOCATION:Marriott Madison West Hotel & Conference Center\, 1313 John Q Hammons Drive\, Middleton\, WI\, 53562\, United States
ATTACH;FMTTYPE=image/jpeg:https://new.suzannew.com/wp-content/uploads/2022/04/Nationa-Womens-Music-Festival-2020.jpeg
END:VEVENT
BEGIN:VEVENT
DTSTART;TZID=America/Los_Angeles:20220625T193000
DTEND;TZID=America/Los_Angeles:20220625T210000
DTSTAMP:20260423T150859
CREATED:20220223T202031Z
LAST-MODIFIED:20220425T221936Z
UID:3381-1656185400-1656190800@new.suzannew.com
SUMMARY:The Triple Door
DESCRIPTION:Buy Tickets
URL:https://new.suzannew.com/event/the-triple-door/
LOCATION:The Triple Door\, 216 Union Street\, Seattle\, WA\, 98101\, United States
ATTACH;FMTTYPE=image/png:https://new.suzannew.com/wp-content/uploads/2022/02/The-Triple-Door.png
END:VEVENT
BEGIN:VEVENT
DTSTART;TZID=UTC:20220611T200000
DTEND;TZID=UTC:20220611T213000
DTSTAMP:20260423T150859
CREATED:20220425T222439Z
LAST-MODIFIED:20220425T222501Z
UID:4523-1654977600-1654983000@new.suzannew.com
SUMMARY:New Hope Winery
DESCRIPTION:Buy Tickets
URL:https://new.suzannew.com/event/new-hope-winery/
LOCATION:New Hope Winery\, 6123 Lower York Rd\, New Hope\, PA\, 18938
ATTACH;FMTTYPE=image/jpeg:https://new.suzannew.com/wp-content/uploads/2022/04/NHW_logo-web.jpeg
END:VEVENT
BEGIN:VEVENT
DTSTART;TZID=UTC:20220610T200000
DTEND;TZID=UTC:20220610T213000
DTSTAMP:20260423T150859
CREATED:20220309T231855Z
LAST-MODIFIED:20220315T175104Z
UID:4201-1654891200-1654896600@new.suzannew.com
SUMMARY:Eddie Owen Presents: Suzanne Westenhoefer
DESCRIPTION:Buy Tickets
URL:https://new.suzannew.com/event/eddie-owen-presents-suzanne-westenhoefer/
LOCATION:Eddie Owen Presents: Red Clay Music Foundry\, 3116 Main Street\, Duluth\, GA\, 30096\, United States
ATTACH;FMTTYPE=image/jpeg:https://new.suzannew.com/wp-content/uploads/2022/03/SW-Duluth-GA-INSTA-min.jpg
END:VEVENT
BEGIN:VEVENT
DTSTART;TZID=UTC:20220605T120000
DTEND;TZID=UTC:20220605T180000
DTSTAMP:20260423T150859
CREATED:20220310T001839Z
LAST-MODIFIED:20220315T175208Z
UID:4217-1654430400-1654452000@new.suzannew.com
SUMMARY:Jersey Pride
DESCRIPTION:Buy Tickets
URL:https://new.suzannew.com/event/jersey-pride/
LOCATION:Asbury Park\, 1300 N Ocean Avenue\, Asbury Park\, NJ\, 07712\, United States
ATTACH;FMTTYPE=image/jpeg:https://new.suzannew.com/wp-content/uploads/2022/03/Jersey-Pride.jpeg
END:VEVENT
BEGIN:VEVENT
DTSTART;TZID=America/Los_Angeles:20220529T190000
DTEND;TZID=America/Los_Angeles:20220529T203000
DTSTAMP:20260423T150859
CREATED:20220425T222129Z
LAST-MODIFIED:20220502T205437Z
UID:4521-1653850800-1653856200@new.suzannew.com
SUMMARY:The Post Office Cafe & Cabaret
DESCRIPTION:Buy Tickets
URL:https://new.suzannew.com/event/the-post-office-cafe-cabaret-4/
LOCATION:The Post Office Cafe & Cabaret\, 303 Commercial St.\, Provincetown\, MA\, 02657
ATTACH;FMTTYPE=image/jpeg:https://new.suzannew.com/wp-content/uploads/2022/04/The-Post-Office-Cafe-Cabaret.jpeg
END:VEVENT
BEGIN:VEVENT
DTSTART;TZID=America/Los_Angeles:20220528T173000
DTEND;TZID=America/Los_Angeles:20220528T190000
DTSTAMP:20260423T150859
CREATED:20220425T222100Z
LAST-MODIFIED:20220502T205324Z
UID:4519-1653759000-1653764400@new.suzannew.com
SUMMARY:The Post Office Cafe & Cabaret
DESCRIPTION:Buy Tickets
URL:https://new.suzannew.com/event/the-post-office-cafe-cabaret-3/
LOCATION:The Post Office Cafe & Cabaret\, 303 Commercial St.\, Provincetown\, MA\, 02657
ATTACH;FMTTYPE=image/jpeg:https://new.suzannew.com/wp-content/uploads/2022/04/The-Post-Office-Cafe-Cabaret.jpeg
END:VEVENT
BEGIN:VEVENT
DTSTART;TZID=America/Los_Angeles:20220527T190000
DTEND;TZID=America/Los_Angeles:20220527T203000
DTSTAMP:20260423T150859
CREATED:20220425T222030Z
LAST-MODIFIED:20220502T205332Z
UID:4517-1653678000-1653683400@new.suzannew.com
SUMMARY:The Post Office Cafe & Cabaret
DESCRIPTION:Buy Tickets
URL:https://new.suzannew.com/event/the-post-office-cafe-cabaret-2/
LOCATION:The Post Office Cafe & Cabaret\, 303 Commercial St.\, Provincetown\, MA\, 02657
ATTACH;FMTTYPE=image/jpeg:https://new.suzannew.com/wp-content/uploads/2022/04/The-Post-Office-Cafe-Cabaret.jpeg
END:VEVENT
BEGIN:VEVENT
DTSTART;TZID=America/Los_Angeles:20220526T190000
DTEND;TZID=America/Los_Angeles:20220526T203000
DTSTAMP:20260423T150859
CREATED:20220425T220726Z
LAST-MODIFIED:20220502T205341Z
UID:4495-1653591600-1653597000@new.suzannew.com
SUMMARY:The Post Office Cafe & Cabaret
DESCRIPTION:Buy Tickets
URL:https://new.suzannew.com/event/the-post-office-cafe-cabaret/
LOCATION:The Post Office Cafe & Cabaret\, 303 Commercial St.\, Provincetown\, MA\, 02657
ATTACH;FMTTYPE=image/jpeg:https://new.suzannew.com/wp-content/uploads/2022/04/The-Post-Office-Cafe-Cabaret.jpeg
END:VEVENT
BEGIN:VEVENT
DTSTART;TZID=America/Los_Angeles:20220416T200000
DTEND;TZID=America/Los_Angeles:20220416T220000
DTSTAMP:20260423T150859
CREATED:20220224T010541Z
LAST-MODIFIED:20220315T175428Z
UID:3595-1650139200-1650146400@new.suzannew.com
SUMMARY:Martinis
DESCRIPTION:Buy Tickets
URL:https://new.suzannew.com/event/martinis/
LOCATION:Martinis\, Plaza On Fourth\, 3940 Fourth Ave\, San Diego\, CA\, 92103\, United States
ATTACH;FMTTYPE=image/jpeg:https://new.suzannew.com/wp-content/uploads/2022/02/Legends-of-LGBT-Comedy-square.jpg
END:VEVENT
BEGIN:VEVENT
DTSTART;TZID=America/New_York:20220409T200000
DTEND;TZID=America/New_York:20220409T213000
DTSTAMP:20260423T150859
CREATED:20220209T015629Z
LAST-MODIFIED:20220315T175535Z
UID:3232-1649534400-1649539800@new.suzannew.com
SUMMARY:The RRazz Room Presents at The Savor Theater
DESCRIPTION:Buy Tickets
URL:https://new.suzannew.com/event/the-rrazz-room-presents-at-the-savor-theater/
LOCATION:The RRazz Room Presents at The Savor Theater\, 503 SE 6th Street\, Fort Lauderdale\, FL\, 33301\, United States
ATTACH;FMTTYPE=image/jpeg:https://new.suzannew.com/wp-content/uploads/2022/02/SavorPost-Westenhoefer.jpg
END:VEVENT
BEGIN:VEVENT
DTSTART;TZID=America/Detroit:20220326T200000
DTEND;TZID=America/Detroit:20220326T213000
DTSTAMP:20260423T150859
CREATED:20220223T203116Z
LAST-MODIFIED:20220315T175625Z
UID:3393-1648324800-1648330200@new.suzannew.com
SUMMARY:Seven Steps Up
DESCRIPTION:Buy Tickets
URL:https://new.suzannew.com/event/seven-steps-up/
LOCATION:Seven Steps Up\, 116 S Jackson St\, Spring Lake\, MI\, 49456\, United States
ATTACH;FMTTYPE=image/jpeg:https://new.suzannew.com/wp-content/uploads/2022/02/seven-steps-up.jpeg
END:VEVENT
BEGIN:VEVENT
DTSTART;TZID=America/Phoenix:20220325T193000
DTEND;TZID=America/Phoenix:20220325T210000
DTSTAMP:20260423T150859
CREATED:20220223T202657Z
LAST-MODIFIED:20220315T175903Z
UID:3389-1648236600-1648242000@new.suzannew.com
SUMMARY:CB Live
DESCRIPTION:Buy Tickets
URL:https://new.suzannew.com/event/cb-live/
LOCATION:CB Live\, 21001 N. Tatum Blvd\, Phoenix\, AZ\, 85050\, United States
ATTACH;FMTTYPE=image/jpeg:https://new.suzannew.com/wp-content/uploads/2022/02/SW-Phoenix-INSTA-V2.jpg
END:VEVENT
BEGIN:VEVENT
DTSTART;TZID=America/Detroit:20220320T193000
DTEND;TZID=America/Detroit:20220320T210000
DTSTAMP:20260423T150859
CREATED:20220223T202342Z
LAST-MODIFIED:20220315T171221Z
UID:3385-1647804600-1647810000@new.suzannew.com
SUMMARY:The Ark
DESCRIPTION:Buy Tickets
URL:https://new.suzannew.com/event/the-ark/
LOCATION:The Ark\, 316 S Main Street\, Ann Arbor\, MI\, 48104\, United States
ATTACH;FMTTYPE=image/png:https://new.suzannew.com/wp-content/uploads/2022/02/The-Ark.png
END:VEVENT
END:VCALENDAR